Workbook
Name \A: #REF!
Name \B: #REF!
Name \C: #REF!
Name \D: #REF!
Name \P: #REF!
Name _nov97: #REF!
Name ACCRUAL: '[3]INV RCVD PRIOR MNTH PAID CURR'!#REF!
Name acct: #REF!
Name ACCT1: '[3]INVOICES RECEIVED'!#REF!
Name AcctMap: [4]AcctMap!$A:$C
Name ACCTPARTC: #REF!
Name ACT: #REF!
Name AMT: #REF!
Name bsdata: #REF!
Name bsdatatest: #REF!
Name CaidBase: [5]BaseMedicaid!$A$10:$F$58
Name CHKRUNMEDEXPBYGLACCT: #REF!
Name CurrQtr_Date: '[6]6.1.0 Audit Report '!$I$4
Name Data: #REF!
Name Date: [4]ControlPanel!$F$6
Name Dates: OFFSET([7]Summary!$H$2:$AE$2,0,#REF!)
Name DDIRECT: #REF!
Name DEC: #REF!
Name DeptMap: [4]DeptMap!$A:$C
Name DIRECTACCT: #REF!
Name discharge: [8]Discharges!$B$7:$J$70
Name DPREM: #REF!
Name DPREMACCT: #REF!
Name DREINS: #REF!
Name DREINSACCT: #REF!
Name ELSE: #REF!
Name EXPACCRUALAMT: '[3]INV RCVD PRIOR MNTH PAID CURR'!#REF!
Name EXPFORPAID1: '[3]INVOICES RECEIVED'!#REF!
Name FindCounty: [5]BaseMedicaid!$M$4:$Q$103
Name gltb: '[9]gl_phy Table'!$B$3:$F$402
Name IP_ALOS: OFFSET([10]!Dates,44,0)
Name JUNE: #REF!
Name LAG_TRIANGLE: #REF!
Name LastCell: #REF!
Name LISACCT: #REF!
Name LISAMT: #REF!
Name MACROS: #REF!
Name MAR: #REF!
Name NEWAMT: #REF!
Name NEWAMT1: #REF!
Name NEWAMT2: '[3]INVOICES RECEIVED'!#REF!
Name PartC: #REF!
Name phytbl: '[9]gl_phy Table'!$A$406:$B$516
Name qtr: '[9]gl_phy Table'!$A$522:$B$583
Name REBATE: #REF!
Name Rpt11A_Q1_Apache: '[11]RPT 11A_old'!$A$4:$G$46,'[11]RPT 11A_old'!$A$50:$G$92,'[11]RPT 11A_old'!$A$96:$G$138
Name Rpt11A_Q1_Coconino: '[11]RPT 11A_old'!$I$4:$O$46,'[11]RPT 11A_old'!$I$50:$O$92,'[11]RPT 11A_old'!$I$96:$O$138
Name Rpt11A_Q1_LaPaz: '[11]RPT 11A_old'!$Q$4:$W$46,'[11]RPT 11A_old'!$Q$50:$W$92,'[11]RPT 11A_old'!$Q$96:$W$138
Name Rpt11A_Q1_Maricopa: '[11]RPT 11A_old'!$Y$4:$AE$46,'[11]RPT 11A_old'!$Y$50:$AE$92,'[11]RPT 11A_old'!$Y$96:$AE$138
Name Rpt11A_Q1_Mohave: '[11]RPT 11A_old'!$AG$4:$AM$46,'[11]RPT 11A_old'!$AG$50:$AM$92,'[11]RPT 11A_old'!$AG$96:$AM$138
Name Rpt11A_Q1_Navajo: '[11]RPT 11A_old'!$AO$4:$AU$46,'[11]RPT 11A_old'!$AO$50:$AU$92,'[11]RPT 11A_old'!$AO$96:$AU$138
Name Rpt11A_Q1_Yuma: '[11]RPT 11A_old'!$AW$4:$BC$46,'[11]RPT 11A_old'!$AW$50:$BC$92,'[11]RPT 11A_old'!$AW$96:$BC$138
Name Rpt11A_Q2_Apache: '[11]RPT 11A_old'!$A$142:$G$184,'[11]RPT 11A_old'!$A$188:$G$230,'[11]RPT 11A_old'!$A$234:$G$276
Name Rpt11A_Q2_Coconino: '[11]RPT 11A_old'!$I$142:$O$184,'[11]RPT 11A_old'!$I$188:$O$230,'[11]RPT 11A_old'!$I$234:$O$276
Name Rpt11A_Q2_LaPaz: '[11]RPT 11A_old'!$Q$142:$W$184,'[11]RPT 11A_old'!$Q$188:$W$230,'[11]RPT 11A_old'!$Q$234:$W$276

Sheet MCO Instructions
A1: Instructions for Completing the MCO and Report Information Tab
A2: The MCO and Report Information tab collects data about the managed care organization (MCO), provides the state-defined MLR reporting period begin and end dates and the state-defined runout date. The MCO should complete the Information tab lines 1, 2, and 4 through 11 prior to completing the MLR H-1 tab. Upon completion of all required information within the template, and after review by senior members of management, an executive of the company operating the MCO who is responsible for financial reporting should read the attestation statement on item 16 of the MCO and Report Information tab and provide a signature and signature date (Lines 17 and 18). Per 42 CFR §438.8(n), the MCO must attest to the accuracy of the calculation of the MLR in accordance with the requirements of the managed care regulations. Finally, line 1 should be completed to reflect the report submission date to the state.
A3: Line # | B3: Line Description | C3: Data Format | D3: Instructions
A4: 1 | B4: Report Date: | C4: Date (MM/DD/YYYY) | D4: Input the date the report is submitted to the state.
A5: 2 | B5: MCO Name | C5: Free text | D5: Input the MCO name.
A6: 3 | B6: Business in the State of: | C6: Arizona | D6: Input by AHCCCS
A7: 4 | B7: Domicilary State: | C7: Free text | D7: Input the name of the state where the company operating the MCO is domiciled.
A8: 5 | B8: Address: | C8: Free text | D8: Input the MCO's mailing address.
A9: 6 | B9: Preparer Name: | C9: Free text | D9: Input the name of the person who entered information into the template and can answer questions about the submitted report.
A10: 7 | B10: Preparer Title: | C10: Free text | D10: Input the title of the person who entered information into the template and can answer questions about the submitted report.
A11: 8 | B11: Preparer Phone Number: | C11: Enter number as ###-###-#### | D11: Input the phone number of the person who entered information into the template and can answer questions about the submitted report.
A12: 9 | B12: Preparer Email Address: | C12: Enter as e-mail address | D12: Input the e-mail address of the person who entered information into the template and can answer questions about the submitted report.
A13: 10 | B13: Federal Tax Exempt: | C13: Set values (drop down) | D13: Input "Yes" if the MCP is exempt from federal income taxes or "No" if it is not.
A14: 11 | B14: Managed Long-Term Services and Supports Only: | C14: Set values (drop down) | D14: Input "Yes" if the managed care program provides only Managed Long-Term Services and Supports (MLTSS) or "No" if it does not.
A15: 12 | B15: MLR Reporting Year Began: | C15: 45931 | D15: Input by AHCCCS
A16: 13 | B16: MLR Reporting Year End: | C16: 46295 | D16: Input by AHCCCS
A17: 14 | B17: Runout Date | C17: 47026 | D17: Input by AHCCCS
A18: 15 | B18: Signature of Chief Executrive Officer/President | C18: Free text | D18: Sign and date.
A19: 16 | B19: Signature of Chief Financial Officer | C19: Free text | D19: Sign and date.
A20: Blank row
A21: Instructions for Completing the MLR H-1 tab
A22: Per 42 CFR §438.8(b), MLR reporting year means a period of 12 months consistent with the rating period selected and set by the state per lines 12 and 13 of the MCO and Report Information tab. Information reported in Part 1 should be reported for services covered by the managed care contract with the state during the state-defined MLR reporting year. This includes incurred claims for member dates of service during the MLR reporting year regardless of paid date, and capitation payments paid for members covered during the MLR reporting year, regardless of paid date. Source documentation, such as general ledgers, allocation schedules, etc. should be available upon request to support amounts reported. Expenditures and revenues reported for MLR should be comparable to audited financial statements per 42 CFR §438.8(k)(1)(xi).

Sheet MCO and Report Information
A1: MCO and MLR Report Information | C1: -
A2: Line # | B2: Item | C2: Response
A3: 1 | B3: Report Date:
A4: 2 | B4: MCO Name:
A5: 3 | B5: Line of Business:
A6: 4 | B6: Business in the State of: | C6: ='MCO Instructions'!C6 -> Arizona
A7: 5 | B7: Domiciliary State:
A8: 6 | B8: Address:
A9: 7 | B9: Preparer Name:
A10: 8 | B10: Preparer Title:
A11: 9 | B11: Preparer Phone Number:
A12: 10 | B12: Preparer E-mail Address:
A13: 11 | B13: Federal Tax Exempt:
A14: 12 | B14: Managed Long-Term Services and Supports Only:
A15: 13 | B15: MLR Reporting Year Begin: | C15: ='MCO Instructions'!C15 -> 45931
A16: 14 | B16: MLR Reporting Year End: | C16: ='MCO Instructions'!C16 -> 46295
A17: 15 | B17: Runout Date: | C17: ='MCO Instructions'!C17 -> 47026
A19: Attestation | C19: -
A20: 16 | B20: Regulations at 42 CFR §438.8(n) require plans to attest to the accuracy of their MLR calculations when submitting their MLR reports to states as required under 42 §CFR 438.8(k).
A21: 17 | B21: Consistent with 42 CFR §438.8(n), the officers of this reporting issuer being duly sworn, each attest that he/she is the described officer of the reporting issuer, and that this MLR Report, the Company/Issuer Associations, and any supplemental submission that the issuer includes are full and true statements of all the elements included therein for the MLR reporting year, and that the MLR Report has been completed in accordance with 42 CFR §438.8, the Medicaid managed care contract, and the State’s reporting instructions, according to the best of his/her information, knowledge and belief.
A23: 18
A24: - | B24: Date Signed
B27: Chief Executive Officer/President Signature
A30: End of worksheet | B30: Chief Executive Officer/President Name Printed
A32: 19
B33: Date Signed
B36: Chief Financial Officer Signature
B39: Chief Financial Officer Name Printed

Sheet MLR H-1
A1: Paragraph 4.19: Medical Loss Ratio Report
A2: Contractor Name: | B2: =IF('MCO and Report Information'!C4="","",'MCO and Report Information'!C4) | P2: NOTES: Do not duplicate any amounts in multiple lines.
A3: Contract Year End: | B3: ='MCO and Report Information'!C16 -> 46295 | E3: For additional MLR guidance please refer MLR H-3 and to AHCCCS' website. | P3: GAAP Basis (Columns H - L) should agree to the submitted financial statements.
H4: GAAP Basis | O4: Incurred Basis
H5: =EOMONTH(I5,-3) -> 46022 | I5: =EOMONTH(J5,-3) -> 46112 | J5: =EOMONTH(K5,-3) -> 46203 | K5: =B3 -> 46295 | L5: ="CYE "&TEXT(B3,"yy") -> CYE 26 | M5: Annual Adjustments1 | N5: Annual Adjustments2 | O5: ="Restated "&L5 -> Restated CYE 26 | P5: USE FOR ANNUAL REPORT ONLY1,2 - Adjustment columns should report prior year adjustments (Column M) and true up any estimates (Column N) to present on an incurred date of service basis. Any adjustments to be deducted should be entered as a negative number.
G6: Member Months | L6: =SUM(H6:K6) -> 0 | M6: 0 | N6: 0 | O6: =SUM(L6:N6) -> 0
A7: MLR Category | B7: Citation | C7: Format of Amount to be Entered | D7: Line # | E7: Detail | F7: Specific Applicability to Line of Business | G7: Financial Statement Account # (If applicable)
A8: Premium Revenue | E8: Revenue
E9: Include
B10: 42 CFR§438.8(f)(2)(i) | C10: + | D10: 1 | E10: Prospective Capitation | F10: ALL | G10: 40105-01 | L10: =SUM(H10:K10) -> 0 | M10: 0 | N10: 0 | O10: =SUM(L10:N10) -> 0 | P10: Include full capitation including 1% withhold payment. Exclude State Directed Payments revenue (reported in line 16) and DAP Revenue (reported in line 17).
B11: 42 CFR§438.8(f)(2)(iii) | C11: +/- | D11: 2 | E11: APM 1% Withhold Settlement 42 CFR 438.6(b)(3) and Performance Based Payments (PBP) contribution by AHCCCS | F11: ACC/ALTCS (ACOM 306) ALL - PBP | G11: 40115-01 | L11: =SUM(H11:K11) -> 0 | M11: 0 | N11: 0 | O11: =SUM(L11:N11) -> 0 | P11: Include Alternative Payment Model (APM) settlements related to Withholds, Incentives (see ACOM 306) and Performance Based Payments. Allocate VBP/APM by contract year in alignment with the VBP/APM Certification deliverable (see ACOM 307). Unearned withhold should be deducted. Earned incentive should be added.
B12: 42 CFR§438.8(f)(2)(ii) | C12: + | D12: 3 | E12: Delivery Supplement | F12: ACC/ALTCS | G12: 40120-01 | L12: =SUM(H12:K12) -> 0 | M12: 0 | N12: 0 | O12: =SUM(L12:N12) -> 0
B13: 42 CFR§438.8(f)(2)(iv) | C13: + | D13: 4 | E13: Unpaid Cost Sharing Amounts | F13: ALL | L13: =SUM(H13:K13) -> 0 | M13: 0 | N13: 0 | O13: =SUM(L13:N13) -> 0 | P13: Include unpaid cost-sharing amounts that could have been collected from enrollees under the contract, except those amounts that can be shown it made a reasonable, but unsuccessful, effort to collect.
B14: 42 CFR§438.8(f)(2)(v) | C14: +/- | D14: 5 | E14: Changes to Unearned Premium Reserves | F14: ALL | L14: =SUM(H14:K14) -> 0 | M14: 0 | N14: 0 | O14: =SUM(L14:N14) -> 0 | P14: Include adjustments to Deferred Revenue.
B15: 42 CFR§438.8 (f)(2)(vi) | C15: +/- | D15: 6 | E15: Reserved | L15: =SUM(H15:K15) -> 0 | M15: 0 | N15: 0 | O15: =SUM(L15:N15) -> 0
C16: +/- | D16: 7 | E16: Prospective Tiered | F16: ACC/ACC-RBHA/ALTCS | G16: 40130-01, 40135-01 | L16: =SUM(H16:K16) -> 0 | M16: 0 | N16: 0 | O16: =SUM(L16:N16) -> 0
C17: +/- | D17: 8 | E17: Reserved | L17: =SUM(H17:K17) -> 0 | M17: 0 | N17: 0 | O17: =SUM(L17:N17) -> 0
C18: +/- | D18: 9 | E18: Other Reconciliation Settlements | F18: ACC/ACC-RBHA/ALTCS | G18: 40145-01 | L18: =SUM(H18:K18) -> 0 | M18: 0 | N18: 0 | O18: =SUM(L18:N18) -> 0 | P18: Include other reconciliation settlements like APSI settlement (see ACOM 325). Do not include monthly premium component of APSI.
C19: +/- | D19: 10 | E19: Share of Cost (SOC) Settlement | F19: ALTCS | G19: 40150-01 | L19: =SUM(H19:K19) -> 0 | M19: 0 | N19: 0 | O19: =SUM(L19:N19) -> 0
C20: +/- | D20: 11 | E20: Reserved | L20: =SUM(H20:K20) -> 0 | M20: 0 | N20: 0 | O20: =SUM(L20:N20) -> 0
C21: + | D21: 12 | E21: Reserved | L21: =SUM(H21:K21) -> 0 | M21: 0 | N21: 0 | O21: =SUM(L21:N21) -> 0
C22: + | D22: 13 | E22: Other Income | F22: ALL | G22: 40310-01 | L22: =SUM(H22:K22) -> 0 | M22: 0 | N22: 0 | O22: =SUM(L22:N22) -> 0 | P22: Other income should not include any types of non-operating income such as gain on sale, etc.
C23: + | D23: 14 | E23: Patient Contributions | F23: ALTCS | G23: 40315-01 | L23: =SUM(H23:K23) -> 0 | M23: 0 | N23: 0 | O23: =SUM(L23:N23) -> 0
C24: +/- | D24: 15 | E24: Other Accruals (Explain below) | F24: ALL | L24: =SUM(H24:K24) -> 0 | M24: 0 | N24: 0 | O24: =SUM(L24:N24) -> 0
B25: 42 CFR§438.8(f)(2)(vii) | C25: + | D25: 16 | E25: State Directed Payments Revenue (excludes Premium Tax) | F25: ALL | G25: 40165-01 | L25: =SUM(H25:K25) -> 0 | M25: 0 | N25: 0 | O25: =SUM(L25:N25) -> 0 | P25: If the State Directed Payment process takes almost a year or more, plans should use the most accurate available information for MLR reporting. Include Nursing Facility, APSI, PSI, SNSI, HEALTHII, and Targeted Investments.
B26: 42 CFR § 438.6(c)(1)(iii)(B) | C26: + | D26: 17 | E26: Differential Adjusted Payments Revenue (excludes Premium Tax) | F26: ALL | G26: 40170-01 | L26: =SUM(H26:K26) -> 0 | M26: 0 | N26: 0 | O26: =SUM(L26:N26) -> 0 | P26: Revenue for payments qualifying providers (including sub-capitation and block payment arrangements) under the Differential Adjusted Payment (DAP) directed payment program.
D27: 18 | E27: Total Premium Revenue | G27: Should agree to 40105-01 through 40315-01 | H27: =SUM(H10:H26) -> 0 | I27: =SUM(I10:I26) -> 0 | J27: =SUM(J10:J26) -> 0 | K27: =SUM(K10:K26) -> 0 | L27: =SUM(H27:K27) -> 0 | M27: =SUM(M10:M26) -> 0 | N27: =SUM(N10:N26) -> 0 | O27: =SUM(L27:N27) -> 0
A29: Taxes, Licensing and Regulatory Fees | E29: Taxes, Licensing and Regulatory Fees
B30: 42 CFR§438.8(f)(3)(iii) | C30: + | D30: 19 | E30: Federal Income & Federal Tax (include Tax Benefit) | F30: ACC/ACC-RBHA/ALTCS | G30: 90105-01 | L30: =SUM(H30:K30) -> 0 | M30: 0 | N30: 0 | O30: =SUM(L30:N30) -> 0 | P30: Exclude Federal income taxes and tax benefit on investment income, capital gains and Federal employment taxes.
C31: + | D31: 20 | E31: Premium Tax | F31: ALL | G31: 90205-01 | L31: =SUM(H31:K31) -> 0 | M31: 0 | N31: 0 | O31: =SUM(L31:N31) -> 0
C32: + | D32: 21 | E32: Reserved | L32: =SUM(H32:K32) -> 0 | M32: 0 | N32: 0 | O32: =SUM(L32:N32) -> 0
B33: 42 CFR§438.8(f)(3) | C33: + | D33: 22 | E33: Other Federal, State, Local Taxes and Licensing and Regulatory Fees | F33: ALL | L33: =SUM(H33:K33) -> 0 | M33: 0 | N33: 0 | O33: =SUM(L33:N33) -> 0
B34: 42 CFR§438.8(f)(3) | C34: + | D34: 23 | E34: Community Benefit Expenses (otherwise exempt from Federal income tax) and Community Reinvestment Expenses meeting requirements of 45 CFR §158.162c | F34: ACC/ACC-RBHA/ALTCS | G34: 990105-01 | L34: =SUM(H34:K34) -> 0 | M34: 0 | N34: 0 | O34: =SUM(L34:N34) -> 0
D35: 24 | E35: Total Taxes, Licensing and Regulatory Fees | H35: =SUM(H30:H34) -> 0 | I35: =SUM(I30:I34) -> 0 | J35: =SUM(J30:J34) -> 0 | K35: =SUM(K30:K34) -> 0 | L35: =SUM(H35:K35) -> 0 | M35: =SUM(M30:M34) -> 0 | N35: =SUM(N30:N34) -> 0 | O35: =SUM(L35:N35) -> 0
A37: Incurred Claims | E37: Incurred Claims
E38: Include
B39: 42 CFR § 438.8(e)(2)(i)(A) & 42 CFR § 438.230(c)(2)(1) | C39: + | D39: 25 | E39: Include paid claims to providers/subcontractors for Medicaid covered services to Medicaid enrollees. Exclude sub-capitation/block payments related to delegated managed care administrative expenses. The costs of the delegated managed care activities cannot be included in the managed care plan's medical loss ratio calculation. Contractors who have providers/subcontractors with delegated managed care activities must include these costs in admin unless they are quality improvement activities which should be reported in the Expenditures for Activities that Improve Health Care Quality Section. | F39: ALL | G39: 50105-01 through 50350-01, 50370-01; 60105-01 through 61305-01 (ACC-RBHA) | L39: =SUM(H39:K39) -> 0 | M39: 0 | N39: 0 | O39: =SUM(L39:N39) -> 0 | P39: Total reported in lines 25 and 26 should equal the total reported in the income statement for Account #'s 50105-01 to 50370-01 (exclude 50350-05 and 50350-10) (60105 through 61205 for ACC-RBHAs). For ALTCS/EPD and DDD LOBs: exclude Account #s 50350-05 and 50350-10. Also, exclude Account # 50365-01 - ALTCS Case Management which should be reported in lines 62-68 as appropriate. The majority of the items explicitly requested to be quantified on a subsequent line in the Incurred Claims section are not to be reported in line 25.
B40: 42 CFR § 438.8(e)(2)(i)(G) | C40: + | D40: 26 | E40: Changes in other claims-related reserves (Change in unpaid claims between the prior year's and the current year's unpaid claims (i.e., RBUC) and change in claims incurred but not reported (IBNR) from the prior year to the current year) | F40: ALL | G40: Change in A/C 20120-01 | L40: =SUM(H40:K40) -> 0 | M40: 0 | N40: 0 | O40: =SUM(L40:N40) -> 0 | P40: Report changes each quarter from the prior Contract year RBUCS and IBNR.
B41: 42 CFR§438.8(e)(2)(i)(C) | C41: + | D41: 27 | E41: Provider Withholds from Payments | F41: ALL | L41: =SUM(H41:K41) -> 0 | M41: 0 | N41: 0 | O41: =SUM(L41:N41) -> 0
B42: 42 CFR§438.8(e)(2)(iii)(A) | C42: + | D42: 28 | E42: Provider Incentive/Bonus Payments (include Unreimbursed PBP) | F42: ALL | L42: =SUM(H42:K42) -> 0 | M42: 0 | N42: 0 | O42: =SUM(L42:N42) -> 0 | P42: Include Incentives or bonuses to providers that are not included as part of APM Performance Based Payments that are directly tied to clearly-defined, objectively measurable, and well-documented clinical or quality improvement standards. Also include unreimbursed PBP.
...

Sheet MLR Proof H-2
A1: Paragraph 4.19: Medical Loss Ratio Report Proof
A2: Contractor Name: | B2: =IF('MCO and Report Information'!C4="","",'MCO and Report Information'!C4)
A3: Contract Year End: | B3: ='MCO Instructions'!C16 -> 46295
C5: GAAP Basis | H5: [1a] | I5: [1b] | J5: Incurred Basis
C6: ='MLR H-1'!H5 -> 46022 | D6: ='MLR H-1'!I5 -> 46112 | E6: ='MLR H-1'!J5 -> 46203 | F6: ='MLR H-1'!K5 -> 46295 | G6: ='MLR H-1'!L5 -> CYE 26 | H6: Annual Adjustments | I6: Annual Adjustments | J6: ='MLR H-1'!O5 -> Restated CYE 26
A7: [2] | B7: Total Premium Revenue | C7: ='MLR H-1'!H27 -> 0 | D7: ='MLR H-1'!I27 -> 0 | E7: ='MLR H-1'!J27 -> 0 | F7: ='MLR H-1'!K27 -> 0 | G7: =SUM(C7:F7) -> 0 | H7: ='MLR H-1'!M27 -> 0 | I7: ='MLR H-1'!N27 -> 0 | J7: =SUM(G7:I7) -> 0
A8: [3] | B8: Total Taxes, Licensing & Regulatory Fees | C8: ='MLR H-1'!H35 -> 0 | D8: ='MLR H-1'!I35 -> 0 | E8: ='MLR H-1'!J35 -> 0 | F8: ='MLR H-1'!K35 -> 0 | G8: =SUM(C8:F8) -> 0 | H8: ='MLR H-1'!M35 -> 0 | I8: ='MLR H-1'!N35 -> 0 | J8: =SUM(G8:I8) -> 0
A9: [4] | B9: Total Incurred Claims | C9: ='MLR H-1'!H54 -> 0 | D9: ='MLR H-1'!I54 -> 0 | E9: ='MLR H-1'!J54 -> 0 | F9: ='MLR H-1'!K54 -> 0 | G9: =SUM(C9:F9) -> 0 | H9: ='MLR H-1'!M54 -> 0 | I9: ='MLR H-1'!N54 -> 0 | J9: =SUM(G9:I9) -> 0
A10: [5] | B10: Total Non-Claims Costs | C10: ='MLR H-1'!H78 -> 0 | D10: ='MLR H-1'!I78 -> 0 | E10: ='MLR H-1'!J78 -> 0 | F10: ='MLR H-1'!K78 -> 0 | G10: =SUM(C10:F10) -> 0 | H10: ='MLR H-1'!M78 -> 0 | I10: ='MLR H-1'!N78 -> 0 | J10: =SUM(G10:I10) -> 0
A11: [6] | B11: Total Health Care Quality Improvement and Other Expenses | C11: ='MLR H-1'!H88 -> 0 | D11: ='MLR H-1'!I88 -> 0 | E11: ='MLR H-1'!J88 -> 0 | F11: ='MLR H-1'!K88 -> 0 | G11: =SUM(C11:F11) -> 0 | H11: ='MLR H-1'!M88 -> 0 | I11: ='MLR H-1'!N88 | J11: =SUM(G11:I11) -> 0
A12: [7] | B12: Program Integrity: Fraud, Waste, and Abuse Prevention Expenses | C12: ='MLR H-1'!H90 -> 0 | D12: ='MLR H-1'!I90 -> 0 | E12: ='MLR H-1'!J90 -> 0 | F12: ='MLR H-1'!K90 -> 0 | G12: =SUM(C12:F12) -> 0 | H12: ='MLR H-1'!M90 -> 0 | I12: ='MLR H-1'!N90 -> 0 | J12: =SUM(G12:I12) -> 0
A13: [8] | B13: MLR Calculated Net Operating Income: | C13: =C7-SUM(C8:C12) -> 0 | D13: =D7-SUM(D8:D12) -> 0 | E13: =E7-SUM(E8:E12) -> 0 | F13: =F7-SUM(F8:F12) -> 0 | G13: =SUM(C13:F13) -> 0 | H13: =H7-SUM(H8:H12) -> 0 | I13: =I7-SUM(I8:I12) -> 0 | J13: =SUM(G13:I13) -> 0
A14: [9] | B14: Enter: 99999 Net Profit (Loss) | C14: 0 | D14: 0 | E14: 0 | F14: 0 | G14: =SUM(C14:F14) -> 0 | J14: =SUM(G14:I14) -> 0
A15: [9] | B15: Enter: 88999 Profit/(Loss) from Non-Operations | C15: 0 | D15: 0 | E15: 0 | F15: 0 | G15: =SUM(C15:F15) -> 0 | J15: =SUM(G15:I15) -> 0
A16: [10] | B16: Community Benefit / Reinvestment Expenses | C16: ='MLR H-1'!H34 -> 0 | D16: ='MLR H-1'!I34 -> 0 | E16: ='MLR H-1'!J34 -> 0 | F16: ='MLR H-1'!K34 -> 0 | G16: =SUM(C16:F16) -> 0 | J16: =SUM(G16:I16) -> 0
A17: [11] | B17: Provider Incentive/Bonus Payments (Include Unreimbursed PBP) | C17: ='MLR H-1'!H42 -> 0 | D17: ='MLR H-1'!I42 -> 0 | E17: ='MLR H-1'!J42 -> 0 | F17: ='MLR H-1'!K42 -> 0 | G17: =SUM(C17:F17) -> 0 | J17: =SUM(G17:I17) -> 0
A18: [12] | B18: Check Figure | C18: =C14-C15-C16-C17 -> 0 | D18: =D14-D15-D16-D17 -> 0 | E18: =E14-E15-E16-E17 -> 0 | F18: =F14-F15-F16-F17 -> 0 | G18: =G14-G15-G16-G17 -> 0 | J18: =J14-J15-J16-J17 -> 0
A19: [13] | B19: Difference | C19: =C13-C18 -> 0 | D19: =D13-D18 -> 0 | E19: =E13-E18 -> 0 | F19: =F13-F18 -> 0 | G19: =SUM(C19:F19) -> 0
B23: Notes:
A24: [1a] | B24: USE FOR ANNUAL MLR REPORT ONLY - Adjustments column should report prior year adjustments. Any adjustments to be deducted should be entered as a negative number.
A25: [1b] | B25: USE FOR ANNUAL MLR REPORT ONLY - Adjustments column should true up any estimates to present on an incurred date of service basis. Any adjustments to be deducted should be entered as a negative number.
A26: =A7 -> [2] | B26: Line #18 of the MLR Reporting Template. Note: Premium revenue does not include non-operating income such as investment income or interest income. Do not enter anything in these cells
A27: =A8 -> [3] | B27: Line #24 of the MLR Reporting Template - do not enter anything in these cells.
A28: =A9 -> [4] | B28: Line #39 of the MLR Reporting Template - do not enter anything in these cells.
A29: =A10 -> [5] | B29: Line #60 of the MLR Reporting Template - do not enter anything in these cells.
A30: =A11 -> [6] | B30: Line #68 of the MLR Reporting Template - do not enter anything in these cells.
A31: =A12 -> [7] | B31: Line #69 of the MLR Reporting Template. Fraud prevention includes improvements to infrastructure that prevents fraud, waste and abuse going forward. Do not enter anything in these cells.
A32: =A13 -> [8] | B32: Auto calculates - do not enter anything in these cells.
A33: =A14 -> [9] | B33: Enter (in natural state): Net Profit (Loss) and Profit(Loss) from Operations which includes accounts 88999-01 and 88999-02, as presented on Financial Reporting Template.
A34: =A16 -> [10] | B34: Line #23 of the MLR Reporting Template - do not enter anything in these cells.
A35: =A17 -> [11] | B35: Line #28 of the MLR Reporting Template - do not enter anything in these cells.
A36: =A18 -> [12] | B36: Auto calculates - do not enter anything in these cells.
A37: =A19 -> [13] | B37: Auto calculates. If the difference is greater than $1.00 or less than ($1.00), reconcile the difference.

Sheet MLR AOE H-3
B1: Paragraph 4.19: Medical Loss Ratio Expense Allocation Methodologies
B2: Contractor Name: | C2: =IF('MCO and Report Information'!C4="","",'MCO and Report Information'!C4)
B3: Contract Year End: | C3: ='MCO Instructions'!C16 -> 46295
B5: Instructions:
B6: On this tab, provide the specific methodologies for the allocation of expenses. This includes account references, cost drivers/allocation statistics, costing source, etc. utilized to report expenses. (Provide methodology utilized to allocate among the various markets, organizations, and lines of business, when applicable.)
B7: Guidance for methodology(ies) for allocation of expenditures:
B8: The descriptions of the methodologies used to allocate expenses must include a detailed description of the methods used in the allocation of expenses, including incurred claims, quality improvement activities (QIA), federal and state taxes, licensing or regulatory fees, and other non-claims costs, as described at 45 CFR §158.170(b) [private market MLR regulations]. The allocation methodologies should describe the types of expenses allocated, how the expenses met the criteria for inclusion in the MLR, and the methods used to allocate the expenses across states and markets. Each expense must be included under only one type of expense, unless a portion of the expense fits under the definition of, or criteria for, one type of expense and the remainder fits into a different type of expense, in which case the expense must be pro-rated between types of expenses. Expenditures that benefit multiple contracts or populations other than those being reported, must be reported on a pro rata basis (42 CFR §438.8(g)). MLR submissions that do not comply with this requirement will be returned by AHCCCS for revision and resubmission. Per 42 CFR §438(g)(2)(i), allocation methodologies must be based on a generally accepted accounting method that is expected to yield the most accurate results. With that in mind it is expected that allocation methodologies remain consistent year over year and across markets unless an operational or accounting methodology change by the company requires a change to the allocation statistic utilized. Shared expenses, including expenses under the terms of a management contract, must be apportioned pro rata to the contract incurring the expense. Expenses that relate solely to the operation of a reporting entity, such as personnel costs associated with the adjusting and paying of claims, must be borne solely by the reporting entity and are not to be apportioned to the other entities.
B10: MLR H-1 Line # | C10: Type of Expense | D10: Expense Allocation Methodology, Including Statistical Basis, Current Year | E10: Consistent with Prior Year? | F10: Comments, including: Justification for Change in Methodology from Prior Year
C13: Taxes, Licensing and Regulatory Fees | D13: -
B14: 19 | C14: Federal Income & Federal Tax (include Tax Benefit) | E14: Select One
B15: 20 | C15: Premium Tax | E15: Select Yes/No
B16: 22 | C16: Other Federal, State, Local Taxes and Regulatory Fees | E16: Select Yes/No
B17: 23 | C17: Community benefit expenditures deductible from premium in MLR calculations (only applicable to MCPs exempt from federal income taxes) | E17: Select Yes/No
C18: Incurred Claims | D18: - | F18: -
B19: 25 | C19: Incurred Claims | E19: Select Yes/No
B20: 26 | C20: Changes in other claims-related reserves | E20: Select Yes/No
B21: 28 | C21: Provider incentives | E21: Select Yes/No
B22: 29 | C22: Payments recovered through Fraud Recovery efforts less related expenses | E22: Select Yes/No
B23: 36 | C23: Rx Rebates (received/accrued) | E23: Select Yes/No
C24: Non-Claims Costs
B25: 40 | C25: Compensation | E25: Select Yes/No
B26: 41 | C26: Compensation Case Management (ALTCS Only) | E26: Select One
B27: 42 | C27: Occupancy | E27: Select Yes/No
B28: 43 | C28: Depreciation | E28: Select Yes/No
B29: 44 | C29: Care Management/Care Coordination not included in Health Care Quality Improvement Expenses | E29: Select Yes/No
B30: 45 | C30: Professional and Outside Services | E30: Select Yes/No
B31: 46 | C31: Office Supplies and Equipment | E31: Select Yes/No
B32: 47 | C32: Travel | E32: Select Yes/No
B33: 48 | C33: Repair and Maintenance | E33: Select Yes/No
B34: 49 | C34: Bank Service Charge | E34: Select Yes/No
B35: 50 | C35: Insurance | E35: Select Yes/No
B36: 51 | C36: Marketing | E36: Select Yes/No
... B46: 61 | C46: Loss Adjustment Expense | E46: Select Yes/No
B47: 62 | C47: Total Non-Claims Costs
C48: Health Care Quality Improvement Activities (QIA) | D48: Expenses which otherwise meet the definition of QIA but which were paid for with grant money or funding separate from premium revenue shall NOT be included in QIA expenses.
B49: 63 | C49: Improvement of health outcomes | E49: Select Yes/No
B50: 64 | C50: Activities to prevent hospital readmission | E50: Select Yes/No
B51: 65 | C51: Improvement of patient safety and reduction of medical errors | E51: Select Yes/No
B52: 66 | C52: Wellness and health promotion activities | E52: Select Yes/No
B53: 67 | C53: Health information technology expenses related to improving health care quality | E53: Select Yes/No
...

Sheet Credibility Adj.
A1: Credibility Adjustment Tables | B1: -
A2: Table 1 - Base Credibility Adjustment Factors: Standard Plans | B2: -
A3: Member Months in MLR Reporting Year | B3: Standard Plans Credibility Adjustment
A4: 0 | B4: -
A5: 5400 | B5: 0.084
A6: 12000 | B6: 0.057
A7: 24000 | B7: 0.04
A8: 48000 | B8: 0.029
A9: 96000 | B9: 0.02
A10: 192000 | B10: 0.015
A11: 380000 | B11: 0.01
A12: - | B12: 0
A13: Blank row
A14: Table 2 - Base Credibility Adjustment Factors: MLTSS Only Plans | B14: -
A15: Member Months in MLR Reporting Year | B15: MLTSS Only Plans Credibility Adjustment
A16: 0 | B16: -
A17: 630 | B17: 0.084
A18: 1000 | B18: 0.067
A19: 2000 | B19: 0.047
A20: 4000 | B20: 0.034
A21: 8000 | B21: 0.024
A22: 16000 | B22: 0.017
A23: 32000 | B23: 0.012
A24: 45000 | B24: 0.01
A25: - | B25: 0
A26: Source: “Medical Loss Ratio (MLR) Credibility Adjustments” Center for Medicaid & CHIP Services (CMCS) Informational Bulletin, July 31, 2017: https://www.medicaid.gov/federal-policy-guidance/downloads/cib073117.pdf. | B26: -
