Workbook

Sheet Instructions
B2: Instructions
B4: Please complete all applicable tabs within this workbook. Once data is entered, please ensure you have saved
B5: your changes prior to submission. Users completing this workbook should refer to the HEALTHII Quality
B6: Performance Measures Technical Guide for additional detail on the measures and for directions on
B7: how to submit this workbook.
B9: Please see the HEALTHII Quality Performance Measures Technical Guide – FFY 20271 for additional
B10: information on the data submission process.
B12: Website: | C12: https://www.azahcccs.gov/PlansProviders/RatesAndBilling/hospitalassessment.html
B14: Step 1: Complete "Hospital Information" Tab
B15: Populate contact information for the appropriate person completing and submitting HEALTHII
B16: performance data, and select your hospital from the drop down. The hospital selection will auto-populate
B17: the remaining fields in the hospital information table, and only the tab associated with the associated hospital
B18: category will allow data entry.
B20: Step 2: Complete Data Entry in Corresponding Hospital Type Tab
B21: Please enter measure-specific data as applicable for your hospital.
B23: Completion of the HEALTHII self-reported performance measures workbook does not require Protected
B24: Health Information (PHI) or Personally Identifiable Information (PII). PHI or PII should not be included in this
B25: workbook or in any transmittal to Milliman via email.
B27: Step 3: Submit Data Entry Template via Email
B28: Once all data elements have been entered and saved, please submit via email to Milliman
... B34: 1. The reporting period for the FFY 2027 HEALTHII SDP program year is FFY 2025 (October 1, 2024 through September 30, 2025).

Sheet Hospital Information
B2: Step 1: Complete Contact and Hospital Information
B4: Data Submitted By:
B5: First Name:
B6: Last Name:
B7: Email:
B9: Acknowledgements:
B10: FALSE | C10: Check to confirm no PHI or PII was added/included in this template. | E10: =IF(B10=TRUE,"","←") -> ← | F10: =IF(B10=TRUE, "", "Acknowledgement required") -> Acknowledgement required
B11: FALSE | C11: Check to confirm your hospital has retained a detailed data extract/log used for calculating submitted aggregate data and that the data allows a reviewer to follow the steps used when summarizing and submitting the aggregate data contained in this submission. | E11: =IF(B11=TRUE,"","←") -> ← | F11: =IF(B11=TRUE, "", "Acknowledgement required") -> Acknowledgement required
B12: FALSE | C12: Check to confirm understanding that a measure detailed data extract/log used to support your reported values may be requested following submission of this template. | E12: =IF(B12=TRUE,"","←") -> ← | F12: =IF(B12=TRUE, "", "Acknowledgement required") -> Acknowledgement required
C13: Select from dropdown to indicate whether this is initial template submission or a revision to a prior submission. | E13: =IF(OR(B13="Initial",B13="Revision"),"","←") -> ← | F13: =IF(OR(B13="Initial",B13="Revision"), "", "Submission Type") -> Submission Type
B15: Select a Hospital:
B16: Begin typing the hospital's name, AHCCCS ID, or use the dropdown feature to select a hospital.
B17: Hospital: | E17: =IF(C17="","←","") -> ← | F17: =IF(C17="", "Click to select hospital from list or begin entering hospital name", "") -> Click to select hospital from list or begin entering hospital name
B19: Hospital Information
B20: AHCCCS ID: | C20: =TRIM(IFERROR(INDEX('Provider List'!G:G,MATCH($C$17,'Provider List'!H:H,0)),""))
B21: Medicare ID: | C21: =TEXT(TRIM(IFERROR(INDEX('Provider List'!B:B,MATCH($C$17,'Provider List'!H:H,0)),"")),"000000")
B22: Name: | C22: =TRIM(IFERROR(INDEX('Provider List'!F:F,MATCH($C$17,'Provider List'!H:H,0)),""))
B23: System: | C23: =TRIM(IFERROR(INDEX('Provider List'!D:D,MATCH($C$17,'Provider List'!H:H,0)),""))
B24: Type: | C24: =TRIM(IFERROR(INDEX('Provider List'!E:E,MATCH($C$17,'Provider List'!H:H,0)),""))
B26: Report Data In Corresponding Hospital Type Tab
C27: =HYPERLINK("#CHILDRENS!a2", "CHILDRENS") -> CHILDRENS
C28: =HYPERLINK("#'CRITICAL ACCESS'!a2", "CRITICAL ACCESS") -> CRITICAL ACCESS
C29: =HYPERLINK("#'GENERAL ACUTE'!a2", "GENERAL ACUTE") -> GENERAL ACUTE
C30: =HYPERLINK("#'LONG TERM'!a2", "LONG TERM") -> LONG TERM
C31: =HYPERLINK("#'PSYCHIATRIC'!a2", "PSYCHIATRIC") -> PSYCHIATRIC
C32: =HYPERLINK("#'REHABILITATION'!a2", "REHABILITATION") -> REHABILITATION

Sheet FAQs
B2: State of Arizona, Health Care Cost Containment System (AHCCCS)
B3: Frequently Asked Questions (FAQs) for the
B4: FFY 2027 AZ HEALTHII Program
B6: 1. Are new hospitals or hospitals with ownership changes included in the FFY 2027 HEALTHII Program?
C7: Yes. New hospitals or hospitals with ownership changes are included in the HEALTHII program as long as they are licensed and operational
C8: in Arizona and provide services to Medicaid Members.
C9: For questions about hospital participation, please contact HospitalAssessmentProject@azahcccs.gov.
B11: 2. Who should hospitals contact with program-related questions?
C12: For questions related to hospital assessments or HEALTHII directed payments, please contact: HospitalAssessmentProject@azahcccs.gov.
C13: For technical questions or questions related to the submission process contact: AZ-HEALTHII@milliman.com.
B15: 3. Where can I find the HEALTHII Performance Measure Specifications?
C16: The HEALTHII Performance Measure Specifications can be found on the AHCCCS Hospital Assessment website.
C17: Please refer to the most current HEALTHII Quality Measure Technical Guide.
B19: 4. Are patients who leave against medical advice included in the measures?
C20: Patients who leave AMA are only excluded from the denominator in the 30-Day Hospital Wide All-Cause Readmission Rate measure.
C22: For measure-specific guidance, please visit the AHCCCS Hospital Assessment website and refer to the most current
C23: HEALTHII Quality Measure Technical Guide.
B25: 5. For the ED Wait Time measure, can I report the average instead of median?
C26: No. The measure must be reported as the median value.
C27: Median: The middle value in a dataset when the numbers are arranged in an ascending or descending order.
D28: In Microsoft Excel, the median is calculated using the MEDIAN function.
B30: 6. When is AZ HEALTHII performance data due?
C31: The FFY 2027 HEALTHII Data Submission Template is due by Friday, November 13, 2026.
B33: 7. How do I submit my completed template?
C34: HEALTHII performance data templates should be submitted by email to AZ-HEALTHII@milliman.com.
C35: If you are required to submit a data log, please do not submit your data log or any PHI via email.
B37: 8. How do I submit my complete data log?
C38: If your facility is randomly selected for a complete data log submission, Secure File Transfer Protocol (SFTP) access details and
C39: upload instructions will be sent to the individual identified by AHCCCS as the designated submitter.
B41: 9. Will hospitals receive confirmation after submitting the template?
C42: Yes, hospitals will receive confirmation that the data submission template was received, as well as additional communication if
C43: any clarification is needed.

Sheet Provider List
A1: Hospital Name | B1: Medicare ID | C1: AHCCCS ID | D1: Hospital System | E1: Hospital Type | F1: Hospital Name Trimmed | G1: AHCCCS ID Text | H1: Hospital Name for Template
A2: ABRAZO ARROWHEAD CAMPUS | B2: 30094 | C2: 531253 | D2: Abrazo Health Care | E2: GENERAL ACUTE | F2: ABRAZO ARROWHEAD CAMPUS | G2: 531253 | H2: ABRAZO ARROWHEAD CAMPUS (531253)
A3: ABRAZO AZ HEART HOSPITAL | B3: 30094 | C3: 569582 | D3: Abrazo Health Care | E3: GENERAL ACUTE | F3: ABRAZO AZ HEART HOSPITAL | G3: 569582 | H3: ABRAZO AZ HEART HOSPITAL (569582)
A4: ABRAZO CENTRAL CAMPUS | B4: 30030 | C4: 532417 | D4: Abrazo Health Care | E4: GENERAL ACUTE | F4: ABRAZO CENTRAL CAMPUS | G4: 532417 | H4: ABRAZO CENTRAL CAMPUS (532417)
A5: ABRAZO SCOTTSDALE CAMPUS | B5: 30083 | C5: 643602 | D5: Abrazo Health Care | E5: GENERAL ACUTE | F5: ABRAZO SCOTTSDALE CAMPUS | G5: 643602 | H5: ABRAZO SCOTTSDALE CAMPUS (643602)
A6: ABRAZO SURPRISE HOSPITAL | B6: 30094 | C6: 82732 | D6: Abrazo Health Care | E6: GENERAL ACUTE | F6: ABRAZO SURPRISE HOSPITAL | G6: 082732 | H6: ABRAZO SURPRISE HOSPITAL (082732)
A7: ABRAZO WEST CAMPUS | B7: 30110 | C7: 806416 | D7: Abrazo Health Care | E7: GENERAL ACUTE | F7: ABRAZO WEST CAMPUS | G7: 806416 | H7: ABRAZO WEST CAMPUS (806416)
A8: AGAVE RIDGE BEHAVIORAL HEALTH HOSPITAL | B8: 34041 | C8: 169026 | D8: Acadia Healthcare | E8: PSYCHIATRIC | F8: AGAVE RIDGE BEHAVIORAL HEALTH HOSPITAL | G8: 169026 | H8: AGAVE RIDGE BEHAVIORAL HEALTH HOSPITAL (169026)
A9: ARIZONA GENERAL HOSPITAL | B9: 30136 | C9: 5217 | D9: Dignity Health | E9: GENERAL ACUTE | F9: ARIZONA GENERAL HOSPITAL | G9: 005217 | H9: ARIZONA GENERAL HOSPITAL (005217)
A10: AURORA BEHAVIORAL HEALTH | B10: 34024 | C10: 192125 | D10: Aurora Behavioral Health System | E10: PSYCHIATRIC | F10: AURORA BEHAVIORAL HEALTH | G10: 192125 | H10: AURORA BEHAVIORAL HEALTH (192125)
A11: AURORA BEHAVIORAL HEALTHCARE-TEMPE | B11: 34028 | C11: 673684 | D11: Aurora Behavioral Health System | E11: PSYCHIATRIC | F11: AURORA BEHAVIORAL HEALTHCARE-TEMPE | G11: 673684 | H11: AURORA BEHAVIORAL HEALTHCARE-TEMPE (673684)
A12: AVENIR BEHAVIORAL HOSPITA | B12: 34035 | C12: 4829 | D12: Avenir | E12: PSYCHIATRIC | F12: AVENIR BEHAVIORAL HOSPITA | G12: 004829 | H12: AVENIR BEHAVIORAL HOSPITA (004829)
A13: AZ STATE HOSPITAL | B13: 34021 | C13: 29331 | D13: State of Arizona | E13: PSYCHIATRIC | F13: AZ STATE HOSPITAL | G13: 029331 | H13: AZ STATE HOSPITAL (029331)
... A116: YUMA REHABILITATION HOSP | B116: 33034 | C116: 776411 | D116: Encompass Health | E116: REHABILITATION | F116: YUMA REHABILITATION HOSP | G116: 776411 | H116: YUMA REHABILITATION HOSP (776411)

Sheet CHILDRENS
A1: =IF('Hospital Information'!C24=D10, "STEP 2: "&D10&" DATA ENTRY", D10&" HOSPITALS ONLY - REPORTING TAB NOT APPLICABLE") -> CHILDRENS HOSPITALS ONLY - REPORTING TAB NOT APPLICABLE
A2: Measure: | D2: National Healthcare Safety Network (NHSN) Facility-wide Inpatient Hospital-onset Clostridium difficile Infection (CDI) Outcome Measure
A3: Description: | D3: Hospital-onset CDI Laboratory-identified events (LabID events) among all inpatients in the facility, excluding well-baby nurseries and neonatal intensive care units (NICUs).
A4: AHCCCS ID: | D4: 06
A5: Numerator: | D5: The number of observed hospital-onset incident CDI LabID events among all inpatients in the facility
A6: Denominator: | D6: The number of Medicaid managed care facility admissions
A7: Reporting Period: | D7: 10/01/2024 - 09/30/2025
A8: Reference: | D8: See section "AHCCCS-06: NHSN Facility-wide Inpatient Hospital-onset Clostridium difficile Infection (CDI) Outcome Measure " in the HEALTHII Quality Performance Measures Technical Guide.
A9: Measure Modifications: | D9: Denominator and numerator limited to Arizona Medicaid managed care population
A10: Provider Type: | D10: CHILDRENS
F12: Please populate all fields in green shading
B14: Data Entry - Medicaid Managed Care Population Only
C15: See 2027 HEALTHII Technical Manual for numerator and denominator calculation requirements
D16: CDI Events
C17: Numerator:
D19: Admissions
C20: Denominator:
B22: Calculation
C24: Rate: | D24: =IFERROR(D17/D20,"") | F24: = [CDI Events] ÷ [Admissions]

Sheet CRITICAL ACCESS
A1: =IF('Hospital Information'!C24=D10, "STEP 2: "&D10&" DATA ENTRY", D10&" HOSPITALS ONLY - REPORTING TAB NOT APPLICABLE") -> CRITICAL ACCESS HOSPITALS ONLY - REPORTING TAB NOT APPLICABLE
A2: Measure: | D2: Median Time from ED Arrival to ED Departure for Discharged ED Patients
A3: Description: | D3: Calculates the median time from emergency department arrival to time of departure from the emergency room for patients discharged from the emergency department (ED)
A4: AHCCCS ID: | D4: 12
A5: Numerator: | D5: Continuous Variable Statement: Time (in minutes) from ED arrival to ED departure for patients discharged from the emergency department
A6: Included ED Visits: | D6: Medicaid managed care member ED visits excluding: patients who expired in the emergency department, left against medical advice (AMA), or whose discharge was not documented or unable to be determined (UTD)
A7: Reporting Period: | D7: 10/01/2024 - 09/30/2025
A8: Reference: | D8: **If calculating in Excel, use MEDIAN function to calculate the numerator value** See section "AHCCCS-12: Median Time from Emergency Department (ED) Arrival to ED Departure for Discharged ED Patients" in the HEALTHII Quality Performance Measures Technical Guide for additional guidance.
A9: Measure Modifications: | D9: Median time calculated based on the Arizona Medicaid managed care population only
A10: Provider Type: | D10: CRITICAL ACCESS
F12: Please populate all fields in green shading
B14: Data Entry - Medicaid Managed Care Population Only
C15: See 2027 HEALTHII Technical Manual for calculation requirements
D16: Median Time (Minutes)
C17: Numerator: | F17: This is the calculated measure, matching Median Time in white box below.
D19: Number of Visits
C20: ED Visits:
B22: Calculation
C24: Median Time: | D24: =D17 -> 0 | F24: = [Median Time (Minutes)] Do not report Mean or Average.

Sheet GENERAL ACUTE
A1: =IF('Hospital Information'!C24=D10, "STEP 2: "&D10&" DATA ENTRY", D10&" HOSPITALS ONLY - REPORTING TAB NOT APPLICABLE") -> GENERAL ACUTE HOSPITALS ONLY - REPORTING TAB NOT APPLICABLE
A2: Measure: | D2: National Healthcare Safety Network (NHSN) Facility-wide Inpatient Hospital-onset Clostridium difficile Infection (CDI) Outcome Measure
A3: Description: | D3: Hospital-onset CDI Laboratory-identified events (LabID events) among all inpatients in the facility, excluding well-baby nurseries and neonatal intensive care units (NICUs).
A4: AHCCCS ID: | D4: 06
A5: Numerator: | D5: The number of observed hospital-onset incident CDI LabID events among all inpatients in the facility
A6: Denominator: | D6: The number of Medicaid managed care facility admissions
A7: Reporting Period: | D7: 10/01/2024 - 09/30/2025
A8: Reference: | D8: See section "AHCCCS-06: NHSN Facility-wide Inpatient Hospital-onset Clostridium difficile Infection (CDI) Outcome Measure " in the HEALTHII Quality Performance Measures Technical Guide.
A9: Measure Modifications: | D9: Denominator and numerator limited to Arizona Medicaid managed care population
A10: Provider Type: | D10: GENERAL ACUTE
F12: Please populate all fields in green shading
B14: Data Entry - Medicaid Managed Care Population Only
C15: See 2027 HEALTHII Technical Manual for numerator and denominator calculation requirements
D16: CDI Events
C17: Numerator:
D19: Admissions
C20: Denominator:
B22: Calculation
C24: Rate: | D24: =IFERROR(D17/D20,"") | F24: = [CDI Events] ÷ [Admissions]

Sheet LONG TERM
A1: =IF('Hospital Information'!C24=D10, "STEP 2: "&D10&" DATA ENTRY", D10&" HOSPITALS ONLY - REPORTING TAB NOT APPLICABLE") -> LONG TERM HOSPITALS ONLY - REPORTING TAB NOT APPLICABLE
A2: Measure: | D2: Percent of Residents Experiencing One or More Falls with Major Injury (Long Stay)
A3: Description: | D3: Percentage of LTCH patients who experience one or more falls with major injury during their LTCH stay
A4: AHCCCS ID: | D4: 05
A5: Numerator: | D5: Total number of LTCH stays in the denominator with planned or unplanned Discharge assessment or Expired Record during the selected time window that experienced one or more falls that resulted in major injury: J1900C = [1] or [2].
A6: Denominator: | D6: The total number of LTCH stays with a planned or unplanned Discharge assessment or Expired Record (A0250 = [10, 11, 12]) in the measure target period, which do not meet the exclusion criteria.
A7: Reporting Period: | D7: 10/01/2024 - 09/30/2025
A8: Reference: | D8: See section "AHCCCS-05: Percent of Residents Experiencing One or More Falls with Major Injury" in the HEALTHII Quality Performance Measures Technical Guide.
A9: Measure Modifications: | D9: Denominator and numerator limited to Arizona Medicaid managed care population
A10: Provider Type: | D10: LONG TERM
F12: Please populate all fields in green shading
B14: Data Entry - Medicaid Managed Care Population Only
C15: See 2027 HEALTHII Technical Manual for numerator and denominator calculation requirements
D16: Falls With Major Injury
C17: Numerator:
D19: Long Stay Patients
C20: Denominator
B22: Calculation
C24: Rate: | D24: =IFERROR(D17/D20,"0") -> 0 | F24: = [Falls With Major Injury] ÷ [Long Stay Patients]

Sheet PSYCHIATRIC
A1: =IF('Hospital Information'!C24=D10, "STEP 2: "&D10&" DATA ENTRY", D10&" HOSPITALS ONLY - REPORTING TAB NOT APPLICABLE") -> PSYCHIATRIC HOSPITALS ONLY - REPORTING TAB NOT APPLICABLE
A2: Measure: | D2: Hours of Seclusion Use
A3: Description: | D3: The total number of hours that all patients admitted to a hospital-based inpatient psychiatric setting were held in seclusion (Overall rate)
A4: AHCCCS ID: | D4: 04
A5: Numerator: | D5: The total number of hours (entered in minutes) that all psychiatric inpatients were held in seclusion
A6: Denominator: | D6: Number of Medicaid managed care member psychiatric inpatient days
A7: Reporting Period: | D7: 10/01/2024 - 09/30/2025
A8: Reference: | D8: See section "AHCCCS-04: Hours of Seclusion Use " in the HEALTHII Quality Performance Measures Technical Guide.
A9: Measure Modifications: | D9: Denominator and numerator limited to Arizona Medicaid managed care population
A10: Provider Type: | D10: PSYCHIATRIC
F12: Please populate all fields in green shading
B14: Data Entry - Medicaid Managed Care Population Only
C15: See 2027 HEALTHII Technical Manual for numerator and denominator calculation requirements
D16: Minutes of Seclusion
C17: Numerator:
D19: Patient Days
C20: Denominator:
B22: Calculation
C24: Hours of Seclusion: | D24: =IFERROR(D17/60,"") -> 0 | F24: = [Minutes of Seclusion] ÷ 60
C26: Rate: | D26: =IFERROR((D24*1000)/(D20*24),"0") -> 0 | F26: = ( [Hours of Seclusion] × [1,000] ) ÷ ( [Total Patient Days] × [24 Hours] )

Sheet REHABILITATION
A1: =IF('Hospital Information'!C24=D10, "STEP 2: "&D10&" DATA ENTRY", D10&" HOSPITALS ONLY - REPORTING TAB NOT APPLICABLE") -> REHABILITATION HOSPITALS ONLY - REPORTING TAB NOT APPLICABLE
A2: Measure: | D2: Percent of Residents Experiencing One or More Falls with Major Injury (Long Stay)
A3: Description: | D3: The percentage of IRF stays in which patients experience one or more falls with major injury during the IRF stay.
A4: AHCCCS ID: | D4: 05
A5: Numerator: | D5: Total number of IRF stays in the denominator during the selected time window that experienced one or more falls that resulted in major injury: J1900C = [1] or [2].
A6: Denominator: | D6: The total number of IRF stays with a discharge date in the measure target period, which do not meet the exclusion criteria.
A7: Reporting Period: | D7: 10/01/2024 - 09/30/2025
A8: Reference: | D8: See section "AHCCCS-05: Percent of Residents Experiencing One or More Falls with Major Injury" in the HEALTHII Quality Performance Measures Technical Guide.
A9: Measure Modifications: | D9: Denominator and numerator limited to Arizona Medicaid managed care population
A10: Provider Type: | D10: REHABILITATION
F12: Please populate all fields in green shading
B14: Data Entry - Medicaid Managed Care Population Only
C15: See 2027 HEALTHII Technical Manual for numerator and denominator calculation requirements
D16: Falls With Major Injury
C17: Numerator:
D19: Long Stay Patients
C20: Denominator:
B22: Calculation
C24: Rate: | D24: =IFERROR(D17/D20,"0") -> 0 | F24: = [Falls With Major Injury] ÷ [Long Stay Patients]

Sheet Limitations

Sheet Compile
A1: KEY | W1: ED Rate not shown since ED_Num is the rate
A2: ID | B2: Contact_First | C2: Contact_Last | D2: Contact_Email | E2: Falls_W_Injury_Num | F2: Long_Stays_Denom | G2: Falls_Rate | H2: HBIPS_Num | I2: HBIPS_Denom | J2: HBIPS_Hours | K2: HBIPS_Rate | L2: Falls_Num | M2: Falls_Denom | N2: Falls_Rate | O2: CDI_Num | P2: CDI_Denom | Q2: CDI_Rate | R2: ED_Num | S2: ED_Visits | T2: Acute_CDI_Events | U2: Acute_Admissions | V2: Acute_CDI_Rate
A3: ='Hospital Information'!C20 | B3: ='Hospital Information'!C5 -> 0 | C3: ='Hospital Information'!C6 -> 0 | D3: ='Hospital Information'!C7 -> 0 | E3: =REHABILITATION!D17 -> 0 | F3: =REHABILITATION!D20 -> 0 | G3: =REHABILITATION!D24 -> 0 | H3: =PSYCHIATRIC!D17 -> 0 | I3: =PSYCHIATRIC!D20 -> 0 | J3: =PSYCHIATRIC!D24 -> 0 | K3: =PSYCHIATRIC!D26 -> 0 | L3: ='LONG TERM'!D17 -> 0 | M3: ='LONG TERM'!D20 -> 0 | N3: ='LONG TERM'!D24 -> 0 | O3: =CHILDRENS!D17 -> 0 | P3: =CHILDRENS!D20 -> 0 | Q3: =CHILDRENS!D24 | R3: ='CRITICAL ACCESS'!D17 -> 0 | S3: ='CRITICAL ACCESS'!D20 -> 0 | T3: ='GENERAL ACUTE'!D17 -> 0 | U3: ='GENERAL ACUTE'!D20 -> 0 | V3: ='GENERAL ACUTE'!D24
